BEGIN:VCALENDAR
VERSION:2.0
PRODID:-//WP EVENT Manager Ical//NONSGML Events//EN
CALSCALE:GREGORIAN
BEGIN:VTIMEZONE
TZID:Asia/Kolkata
BEGIN:STANDARD
DTSTART:19700101T000000
TZOFFSETFROM:+0530
TZOFFSETTO:+0530
END:STANDARD
END:VTIMEZONE
BEGIN:VEVENT
UID:69e4f3d6357b5@richmondfamilymagazine.com
DTSTAMP:20260419T152510Z
DTSTART;TZID=Asia/Kolkata:20260515T170000
DTEND;TZID=Asia/Kolkata:20260517T170000
LOCATION:Kanawha Plaza, E Canal St, Richmond, VA
SUMMARY:2026 Dominion Energy Riverrock
DESCRIPTION:Get ready to #RockTheOutdoors! Experience the nation’s premier outdoor sports and music festival designed to showcase Richmond’s unique riverfront, downtown trails, and whitewater rapids. From trail running and mountain biking to kayaking, SUP, skimboarding, riverside yoga, and fishing, Dominion Energy Riverrock offers endless ways to discover our city&#8217;s amazing outdoor scene. Whether you&#8217;re competing or just soaking up the atmosphere at the James River, join us in celebrating the incredible value of outdoor recreation in the heart of RVA.
END:VEVENT
END:VCALENDAR