BEGIN:VCALENDAR
VERSION:2.0
PRODID:-//WP EVENT Manager Ical//NONSGML Events//EN
CALSCALE:GREGORIAN
BEGIN:VTIMEZONE
TZID:Asia/Kolkata
BEGIN:STANDARD
DTSTART:19700101T000000
TZOFFSETFROM:+0530
TZOFFSETTO:+0530
END:STANDARD
END:VTIMEZONE
BEGIN:VEVENT
UID:69e4ebed0ff1b@richmondfamilymagazine.com
DTSTAMP:20260419T145125Z
DTSTART;TZID=Asia/Kolkata:20260727T090000
DTEND;TZID=Asia/Kolkata:20260731T160000
LOCATION:600 E Grace St.
SUMMARY:Arts in Education Summer Camp
DESCRIPTION:The theme of our Arts in Education Summer Camp, Estados Unidos, Estamos Unidos, honors the 250th anniversary of the United States by celebrating unity and the mix of traditions that have shaped our nation. Through arts education, children explore how creativity, cooperation, and respect for one another strengthen communities. Latin Ballet of Virginia is proud to present another summer of fun with a week-long, art education camp in an exciting and unique format! Our Summer Camp Series is sure to boost self-confidence and cultural interests, inspiring children’s self-expression for intellectual growth! As the Latin Ballet of Virginia celebrates over 20 years of full- and half-day summer camps, we remain committed to high-quality arts education that encourages curiosity, responsibility, and care for the world around us. Our unique program is taught by professional dancers and musicians who have years of performance and teaching experience to share with each student. Classes are held in professional dance studios and art classrooms. Each of the sessions culminates in a performance by the students, incorporating what they have learned throughout the camp. For ages 4 &#8211; 13. Please visit our website to register and for information about our program.
END:VEVENT
END:VCALENDAR