BEGIN:VCALENDAR
VERSION:2.0
PRODID:-//WP EVENT Manager Ical//NONSGML Events//EN
CALSCALE:GREGORIAN
BEGIN:VTIMEZONE
TZID:Asia/Kolkata
BEGIN:STANDARD
DTSTART:19700101T000000
TZOFFSETFROM:+0530
TZOFFSETTO:+0530
END:STANDARD
END:VTIMEZONE
BEGIN:VEVENT
UID:69e4cd71f0484@richmondfamilymagazine.com
DTSTAMP:20260419T124121Z
DTSTART;TZID=Asia/Kolkata:20260501T080000
DTEND;TZID=Asia/Kolkata:20260501T100000
LOCATION:3200 Rockbridge St
SUMMARY:Community Day
DESCRIPTION:Join us at the CKG Foundation’s office in Scott’s Addition to kick off Mental Health Awareness Month! This free event celebrates community and mental wellness with self care activities, vendors, raffles, silent auction, and a free coffee truck. All ages are welcome.
END:VEVENT
END:VCALENDAR