BEGIN:VCALENDAR
VERSION:2.0
PRODID:-//WP EVENT Manager Ical//NONSGML Events//EN
CALSCALE:GREGORIAN
BEGIN:VTIMEZONE
TZID:Asia/Kolkata
BEGIN:STANDARD
DTSTART:19700101T000000
TZOFFSETFROM:+0530
TZOFFSETTO:+0530
END:STANDARD
END:VTIMEZONE
BEGIN:VEVENT
UID:69e4f471c1879@richmondfamilymagazine.com
DTSTAMP:20260419T152745Z
DTSTART;TZID=Asia/Kolkata:20260515T170000
DTEND;TZID=Asia/Kolkata:20260517T170000
LOCATION:Tredegar Riverfront Area
SUMMARY:Dominion Energy Riverrock
DESCRIPTION:Whether you plan to come and get dirty yourself, or sing along at one of the concerts, Dominion Energy Riverrock is all about making sure you’re right where you want to be! Navigate your way through the festival and check out everything from Subaru Ultimate Air Dogs to the Bouldering finals. Take in sunset views of the James River and end your night dancing under the stars. We don’t want you to miss out on a second of the weekend!
END:VEVENT
END:VCALENDAR