BEGIN:VCALENDAR
VERSION:2.0
PRODID:-//WP EVENT Manager Ical//NONSGML Events//EN
CALSCALE:GREGORIAN
BEGIN:VTIMEZONE
TZID:Asia/Kolkata
BEGIN:STANDARD
DTSTART:19700101T000000
TZOFFSETFROM:+0530
TZOFFSETTO:+0530
END:STANDARD
END:VTIMEZONE
BEGIN:VEVENT
UID:69e84782cc97b@richmondfamilymagazine.com
DTSTAMP:20260422T035858Z
DTSTART;TZID=Asia/Kolkata:20260510T180000
DTEND;TZID=Asia/Kolkata:20260510T193000
LOCATION:4305 Sulgrave Road
SUMMARY:Mother’s Day Concert with the Richmond Concert Band
DESCRIPTION:The Richmond Concert Band is back at Agecroft again to celebrate all the people who give us motherly love! Grab a picnic and those closest for a beautiful evening of outdoor music. Don&#8217;t forget your blankets or chairs for this fun, relaxing event! No pets, please. For more information on the concert, call the Richmond Concert Band directly at (804) 737-3767. In the event of inclement weather, the concert will be postponed to May 17th. Photo by Stratton McCrady Photography.
END:VEVENT
END:VCALENDAR