BEGIN:VCALENDAR
VERSION:2.0
PRODID:-//WP EVENT Manager Ical//NONSGML Events//EN
CALSCALE:GREGORIAN
BEGIN:VTIMEZONE
TZID:Asia/Kolkata
BEGIN:STANDARD
DTSTART:19700101T000000
TZOFFSETFROM:+0530
TZOFFSETTO:+0530
END:STANDARD
END:VTIMEZONE
BEGIN:VEVENT
UID:69e4f8708f9c1@richmondfamilymagazine.com
DTSTAMP:20260419T154448Z
DTSTART;TZID=Asia/Kolkata:20260513T160000
DTEND;TZID=Asia/Kolkata:20260513T164500
LOCATION:1700 Forest Avenue
SUMMARY:Science Sleuths
DESCRIPTION:All ages. An interactive experience that’s sure to spark curiosity and creativity! We’ll kick things off with a fun demonstration-level experiment that brings science to life. Then, participants will dive right in, exploring their own experiment or activity together. Whether you’re making something cool, solving a puzzle, or testing out new ideas, this program is all about fun, learning, and shared STEM experiences. Information: qua024@henrico.gov
END:VEVENT
END:VCALENDAR