BEGIN:VCALENDAR
VERSION:2.0
PRODID:-//WP EVENT Manager Ical//NONSGML Events//EN
CALSCALE:GREGORIAN
BEGIN:VTIMEZONE
TZID:Asia/Kolkata
BEGIN:STANDARD
DTSTART:19700101T000000
TZOFFSETFROM:+0530
TZOFFSETTO:+0530
END:STANDARD
END:VTIMEZONE
BEGIN:VEVENT
UID:69e4e1f805796@richmondfamilymagazine.com
DTSTAMP:20260419T140856Z
DTSTART;TZID=Asia/Kolkata:20260516T110000
DTEND;TZID=Asia/Kolkata:20260516T120000
LOCATION:11800 Centre Street, Chester, VA
SUMMARY:Watershed Wonders: Discover Our Impact on Local Waterways
DESCRIPTION:Explore the journey of water in this fun, interactive program! Work with a hands-on model to discover the benefits of a healthy waterway. Registration begins May 2. Participants will investigate why our water is so important and explore a hands-on model to understand how our everyday action can affect the health of our waterways. For grades 3-5 and their caregivers. Register only the child participants starting May 2.
END:VEVENT
END:VCALENDAR